BEGIN:VCALENDAR
VERSION:2.0
PRODID:-//eventon.com NONSGML v1.0//EN
CALSCALE:GREGORIAN
METHOD:PUBLISH
BEGIN:VEVENT
UID:69e5be49ad686
DTSTAMP:20260420T054857Z
DTSTART:20210828T170000Z
DTEND:20210828T215000Z
LOCATION:KULTBERG SAAL Weinbergsweg 11 / Heinrich-Heine-Straße\,  03229 Altdöbern
SUMMARY:WUSEL-K-DUSEL PUNKVERSION mit Last Caress
DESCRIPTION:Unser Kessel Buntes für euch\,  ein Potpourri der Musike\,  li
 ve und in Farbe. Diesmal mit LAST CARESS (A Tribute to The Misfits) aus Dre
 sden! .... Als Vorband bekommt ihr authentischen Nirvana-Grunge um die Ohre
 n von NÜÖRWÄNÄ (Nirvana-Tribute-Band) .... VVK: https://www.eventbrite.
 de/e/wusel-k-dusel-misfits-cover-tickets-167419940549 AK: 9 € inkl. Test 
 und Schnäppi Einlass begrenzt!\nhttps://kultberg.com/events/wusel-k-dusel-
 punkversion-mit-last-caress/
URL:https://kultberg.com/events/wusel-k-dusel-punkversion-mit-last-caress/
END:VEVENT
END:VCALENDAR