BEGIN:VCALENDAR
VERSION:2.0
PRODID:-//eventon.com NONSGML v1.0//EN
CALSCALE:GREGORIAN
METHOD:PUBLISH
BEGIN:VEVENT
UID:69e5beb005602
DTSTAMP:20260420T055040Z
DTSTART:20211002T180000Z
DTEND:20211002T215000Z
LOCATION:KULTBERG SAAL Weinbergsweg 11 / Heinrich-Heine-Straße\,  03229 Altdöbern
SUMMARY:WUSEL-K-DUSEL MOTÖRHEAD-TRIBUTE
DESCRIPTION:KILMINISTER die MOTÖRHEAD-SHOW Seit ihrer Gründung im Jahr 19
 75 gehörte die britische Rockband zu den einflussreichsten Musikformatione
 n der Welt. Ihr Kopf\,  der Bassist Ian „Lemmy“ Kilmister\,  war schon 
 zu Lebzeiten eine Legende. Mit seinem Tod am 28.12.2015 endet die Bandgesch
 ichte von Motörhead. Drei Hallenser sind mit der Mission unterwegs\,  die[
 ..]\nhttps://kultberg.com/events/wusel-k-dusel-motoerhead-tribute/
URL:https://kultberg.com/events/wusel-k-dusel-motoerhead-tribute/
END:VEVENT
END:VCALENDAR