BEGIN:VCALENDAR
VERSION:2.0
PRODID:-//eventon.com NONSGML v1.0//EN
CALSCALE:GREGORIAN
METHOD:PUBLISH
BEGIN:VEVENT
UID:69e5be4f547f4
DTSTAMP:20260420T054903Z
DTSTART:20210911T163000Z
DTEND:20210911T215000Z
LOCATION:KULTBERG CLUB Weinbergsweg 11 / Ecke Heinrich-Heine-Str.\,  03229 Altdöbern
SUMMARY:DEKALOG - FILMABEND mit Austausch und Musik
DESCRIPTION:Filmvorführung Podiumsdiskussion &amp; Austausch musikalischer
  Ausklang &nbsp; Eintritt frei &nbsp; Plätze begrenzt. &nbsp;\nhttps://kul
 tberg.com/events/dekalog-filmabend-mit-austausch-und-musik/
URL:https://kultberg.com/events/dekalog-filmabend-mit-austausch-und-musik/
END:VEVENT
END:VCALENDAR