BEGIN:VCALENDAR
VERSION:2.0
PRODID:-//eventon.com NONSGML v1.0//EN
CALSCALE:GREGORIAN
METHOD:PUBLISH
BEGIN:VEVENT
UID:69e5bbdf7d4d2
DTSTAMP:20260420T053839Z
DTSTART:20210813T170000Z
DTEND:20210813T215000Z
LOCATION:KULTBERG BAR/BIERGARTEN Weinbergsweg 11 / Ecke Heinrich-Heine-Str.\,  03229 Altdöbern
SUMMARY:O-TON mit Juliet Garcia (History of Rock aus Berlin)
DESCRIPTION:O-TON - dein Freitagabend voll handgemachter Livemusik von Band
  und Gästen Diesmal mit Support von  Juliet Garcia von The History of Roc
 k aus Berlin  Kraftvolle Frauenstimme zu Rock Classics + Begleitung  offe
 ne Bühne + offenes Mikrofon für jeden kühles Bier\,  lecker Drinks\,  ge
 iler Kaffee dufte Stimmung gemütliches Ambiente  bei schniekem[..]\nhttps
 ://kultberg.com/events/o-ton-mit-juliet-garcia/
URL:https://kultberg.com/events/o-ton-mit-juliet-garcia/
END:VEVENT
END:VCALENDAR