BEGIN:VCALENDAR
VERSION:2.0
PRODID:-//eventon.com NONSGML v1.0//EN
CALSCALE:GREGORIAN
METHOD:PUBLISH
BEGIN:VEVENT
UID:69e5be95a2c57
DTSTAMP:20260420T055013Z
DTSTART:20210911T170000Z
DTEND:20210911T215000Z
LOCATION:KULTBERG BAR/BIERGARTEN Weinbergsweg 11 / Ecke Heinrich-Heine-Str.\,  03229 Altdöbern
SUMMARY:O-TON mit Scott Ibex (US)
DESCRIPTION:O-TON - dein normalerweise Freitagabend voll handgemachter Live
 musik von Band und Gästen. Doch diesmal weichen wir mal auf den Samstag au
 s bei DER Besetzung! Scott Ibex  Verzaubert uns mit sanften Bluestönen\, 
  einer unglaublichen Stimme und akustischen Kunsteinlagen auf der Gitarre. 
 Das dürft\,  das wollt ihr nicht verpassen. O-TON:  offene Bühne[..]\nht
 tps://kultberg.com/events/o-ton-mit-scott-ibex-us/
URL:https://kultberg.com/events/o-ton-mit-scott-ibex-us/
END:VEVENT
END:VCALENDAR