BEGIN:VCALENDAR
VERSION:2.0
PRODID:-//eventon.com NONSGML v1.0//EN
CALSCALE:GREGORIAN
METHOD:PUBLISH
BEGIN:VEVENT
UID:69e5d4c08e294
DTSTAMP:20260420T072448Z
DTSTART:20230325T190000Z
DTEND:20230325T225000Z
LOCATION:KULTBERG CLUB Weinbergsweg 11 / Ecke Heinrich-Heine-Str.\,  03229 Altdöbern
SUMMARY:Blues Club Extra presents: TWO TIMER
DESCRIPTION:TWO TIMER Vor der COVID Pandemie waren sie für fast auf den Ta
 g genau gebucht\,  3 Jahre musstet ihr warten aber jetzt ist es endlich wie
 der Zeit für TWO TIMER. Im Gepäck werden sie ihr fantastisches neues Albu
 m "The Gumbo Sessions" haben. "Two Timer sind eine junge Band aus Poznan[..
 ]\nhttps://kultberg.com/events/blues-club-extra-presents-two-timer/
URL:https://kultberg.com/events/blues-club-extra-presents-two-timer/
END:VEVENT
END:VCALENDAR