BEGIN:VCALENDAR
VERSION:2.0
PRODID:-//eventon.com NONSGML v1.0//EN
CALSCALE:GREGORIAN
METHOD:PUBLISH
BEGIN:VEVENT
UID:69e637a33fba4
DTSTAMP:20260420T142643Z
DTSTART:20230317T190000Z
DTEND:20230317T225000Z
LOCATION:KULTBERG BAR/BIERGARTEN Weinbergsweg 11 / Ecke Heinrich-Heine-Str.\,  03229 Altdöbern
SUMMARY:Saint Patricks Day mit GREENPECKERS
DESCRIPTION:Am 17.3. wird's wieder (t)irisch gut im KULTBERG! Wir feiern Sa
 int Patrick's Day mit grünen Drinks\,  Irish Folk &amp; Rock und jaaanz vi
 el Glück im Herzen! Und dazu heizen euch die GREENPECKERS aus Dresden orde
 ntlich ein\,  auf "dass die Hütte brennt!" 20 Uhr geht's los. 5€ Kulturb
 eitrag (freiwillig) P.S.: Wer[..]\nhttps://kultberg.com/events/saint-patric
 ks-day/
URL:https://kultberg.com/events/saint-patricks-day/
END:VEVENT
END:VCALENDAR