BEGIN:VCALENDAR
VERSION:2.0
PRODID:-//eventon.com NONSGML v1.0//EN
CALSCALE:GREGORIAN
METHOD:PUBLISH
BEGIN:VEVENT
UID:69e5beb58bd3d
DTSTAMP:20260420T055045Z
DTSTART:20230819T170000Z
DTEND:20230819T215000Z
LOCATION:KULTBERG BAR/BIERGARTEN Weinbergsweg 11 / Ecke Heinrich-Heine-Str.\,  03229 Altdöbern
SUMMARY:O-TON 19.8. mit Martin Seidel (Singer/Songwriting)
DESCRIPTION:"Stilistisch irgendwo zwischen Folk\,  Alternative\,  Pop und C
 ountry angesiedelt\,  stets abwechslungsreich\,  unterhaltsam und mit einem
  Lächeln präsentiert - Konzertabende mit Martin Seidel sind intime und in
 tensive Erlebnisse\,  die man gern in Erinnerung behält." super Sänger (d
 ie Bühne darf wie immer geentert werden\,  traut euch) lecker Drinks dufte
  Stimmung gemütliches Ambiente[..]\nhttps://kultberg.com/events/o-ton-sing
 er-songwriting-mit-martin-seidel/
URL:https://kultberg.com/events/o-ton-singer-songwriting-mit-martin-seidel/
END:VEVENT
END:VCALENDAR