BEGIN:VCALENDAR
VERSION:2.0
PRODID:-//eventon.com NONSGML v1.0//EN
CALSCALE:GREGORIAN
METHOD:PUBLISH
BEGIN:VEVENT
UID:69e5be95ce808
DTSTAMP:20260420T055013Z
DTSTART:20230915T190000Z
DTEND:20230915T215000Z
LOCATION:KULTBERG BAR/BIERGARTEN Weinbergsweg 11 / Ecke Heinrich-Heine-Str.\,  03229 Altdöbern
SUMMARY:O-TON 15.9. mit BluesCats.Band
DESCRIPTION:Frisch gegründet und motiviert dengeln euch die BluesCats gute
 n alten Bluesrock querbeet durch die Geschichte um die Ohren. Von Jimi Hend
 rix über Neil Young bis ZZ Top könnt ihr euch gemütlich einen abhotten k
 ommen 💃 🎙juter Blues-Rock 🍺lecker Drinks 🎵dufte Stimmung 😎l
 ssiges Ambiente 💫bei schniekem Wetter outdoor unterm Blätter- und[..]\
 nhttps://kultberg.com/events/o-ton-15-9-mit-katze-friends/
URL:https://kultberg.com/events/o-ton-15-9-mit-katze-friends/
END:VEVENT
END:VCALENDAR