BEGIN:VCALENDAR
VERSION:2.0
PRODID:-//eventon.com NONSGML v1.0//EN
CALSCALE:GREGORIAN
METHOD:PUBLISH
BEGIN:VEVENT
UID:69e5a95055654
DTSTAMP:20260420T041928Z
DTSTART:20240420T180000Z
DTEND:20240420T215000Z
LOCATION:KULTBERG BAR/BIERGARTEN Weinbergsweg 11 / Ecke Heinrich-Heine-Str.\,  03229 AltdÃ¶bern
SUMMARY:O-TON mit Rob Moir
DESCRIPTION:"Rob Moir gehÃ¶rt mit Sicherheit zu den besten Songwritern\,  d
 ie es da drauÃŸen aktuell gibt. Und mit Hunderten Shows auf dem Buckel weiÃ
 Ÿ er\,  wie er seine Songs prÃ¤sentieren muss\,  um sein Publikum mitzunehm
 en. Die Musik pendelt stets zwischen Country-\,  Folkanleihen und klassisch
 em Gitarrenpop. Moir singt seine romantischen Seufzerlieder mit[..]\nhttps:
 //kultberg.com/events/o/
URL:https://kultberg.com/events/o/
END:VEVENT
END:VCALENDAR