BEGIN:VCALENDAR
VERSION:2.0
PRODID:-//eventon.com NONSGML v1.0//EN
CALSCALE:GREGORIAN
METHOD:PUBLISH
BEGIN:VEVENT
UID:69e5beafe6aa6
DTSTAMP:20260420T055039Z
DTSTART:20240426
DTEND:20240427
LOCATION:
SUMMARY:Betriebsausflug - Bude bleibt zu
DESCRIPTION:Betriebsausflug - Bude bleibt zu\nhttps://kultberg.com/events/b
 etriebsausflug-bude-bleibt-zu/
URL:https://kultberg.com/events/betriebsausflug-bude-bleibt-zu/
END:VEVENT
END:VCALENDAR