BEGIN:VCALENDAR
VERSION:2.0
PRODID:-//eventon.com NONSGML v1.0//EN
CALSCALE:GREGORIAN
METHOD:PUBLISH
BEGIN:VEVENT
UID:69e5a9035953e
DTSTAMP:20260420T041811Z
DTSTART:20240727T180000Z
DTEND:20240727T215000Z
LOCATION:KULTBERG BAR/BIERGARTEN Weinbergsweg 11 / Ecke Heinrich-Heine-Str.\,  03229 AltdÃ¶bern
SUMMARY:O-TON 27.7. Black Elephant Band
DESCRIPTION:"- Solo-Antifolk-Folkpunk-Songwriter-Projekt von Jan Bratenstei
 n aus NÃ¼rnberg angry antifolk // bearded bluespunk // sassy songwriting â€
 žUngeschliffene\,  gestochen scharf auf den Punkt kommende\,  englischsprac
 hige Songminiaturen voll von schrÃ¤gem Humor und bitterbÃ¶sen Weltbetrachtu
 ngen". "Herrlich respektlos\,  einfach grandios hingerotzt. Die Black Eleph
 ant Band ist so etwas wie die Ramones des Folk!" "Die schlecht[..]\nhttps:/
 /kultberg.com/events/o-ton-27-7-black-elephant-band/
URL:https://kultberg.com/events/o-ton-27-7-black-elephant-band/
END:VEVENT
END:VCALENDAR