BEGIN:VCALENDAR
VERSION:2.0
PRODID:-//eventon.com NONSGML v1.0//EN
CALSCALE:GREGORIAN
METHOD:PUBLISH
BEGIN:VEVENT
UID:69e5a90352d2d
DTSTAMP:20260420T041811Z
DTSTART:20240921T180000Z
DTEND:20240921T230000Z
LOCATION:KULTBERG BAR/BIERGARTEN Weinbergsweg 11 / Ecke Heinrich-Heine-Str.\,  03229 AltdÃ¶bern
SUMMARY:KNEIPEN-MÃœSCHPOKE mit Aufleger "GÃ¼nni"
DESCRIPTION:UFFRESCHUNG! ðŸ˜œ Wir probieren mal was Neues fÃ¼r euch aus ðŸ¤
 © und kredenzen euch jute\,  alte Mukke ðŸ“» aus den 70ern\,  80ern und 90e
 rn im Mini-Disco-Format ðŸŽš right in the Kneip. Ein schÃ¶ner Abend voll mu
 sikalischer Erinnerungen zum schwelgen mit Freunden oder abhotten an der Ba
 r ðŸ’ƒ ðŸ•º. ðŸ“… Samstag\, [..]\nhttps://kultberg.com/events/kneipen-muesc
 hpoke-mit-aufleger-guenni/
URL:https://kultberg.com/events/kneipen-mueschpoke-mit-aufleger-guenni/
END:VEVENT
END:VCALENDAR