BEGIN:VCALENDAR
VERSION:2.0
PRODID:-//eventon.com NONSGML v1.0//EN
CALSCALE:GREGORIAN
METHOD:PUBLISH
BEGIN:VEVENT
UID:69e590f4ca73f
DTSTAMP:20260420T023532Z
DTSTART:20241026T180000Z
DTEND:20241025T230000Z
LOCATION:KULTBERG BAR/BIERGARTEN Weinbergsweg 11 / Ecke Heinrich-Heine-Str.\,  03229 Altdöbern
SUMMARY:KNEIPEN-MÜSCHPOKE mit Aufleger "Günni"
DESCRIPTION:UFFRESCHUNG! 😜 Wir läuten Runde 2 ein 🤩 und kredenzen eu
 ch jute\,  alte Mukke 📻 aus den 70ern\,  80ern und 90ern im Mini-Disco-F
 ormat 🎚 right in the Kneip. Ein schöner Abend voll musikalischer Erinne
 rungen zum schwelgen mit Freunden oder abhotten an der Bar 💃 🕺. 📅 
 Samstag\,  26.10. ⏰ 20[..]\nhttps://kultberg.com/events/kneipen-mueschpok
 e-mit-aufleger-guenni-2/
URL:https://kultberg.com/events/kneipen-mueschpoke-mit-aufleger-guenni-2/
END:VEVENT
END:VCALENDAR