BEGIN:VCALENDAR
VERSION:2.0
PRODID:-//eventon.com NONSGML v1.0//EN
CALSCALE:GREGORIAN
METHOD:PUBLISH
BEGIN:VEVENT
UID:69e8a0303c5e2
DTSTAMP:20260422T101720Z
DTSTART:20201031T170000Z
DTEND:20201101T000000Z
LOCATION:KULTBERG BAR/BIERGARTEN Weinbergsweg 11 / Ecke Heinrich-Heine-Str.\,  03229 Altdöbern
SUMMARY:Halloween / Samhain im KULTBERG
DESCRIPTION:Lasst uns Halloween (oder besser Samhain) ganz traditionell beg
 ehen. Als Taugenichts und Trunkenbold o/ Die Ursprünge von Halloween liege
 n eigentlich in einer Tradition aus Irland. Die Nacht zum 1. November bedeu
 tete bei den Kelten die Grenze zum Winter und damit zur dunklen Jahreszeit.
  Auch die Grenze zur Anderswelt\,  zur Totenwelt\, [..]\nhttps://kultberg.c
 om/events/halloween-samhain-im-kultberg/
URL:https://kultberg.com/events/halloween-samhain-im-kultberg/
END:VEVENT
END:VCALENDAR