BEGIN:VCALENDAR
VERSION:2.0
PRODID:-//eventon.com NONSGML v1.0//EN
CALSCALE:GREGORIAN
METHOD:PUBLISH
BEGIN:VEVENT
UID:69e5bd62164fe
DTSTAMP:20260420T054506Z
DTSTART:20210513T080000Z
DTEND:20210513T160000Z
LOCATION:KULTBERG BAR/BIERGARTEN Weinbergsweg 11 / Ecke Heinrich-Heine-Str.\,  03229 Altdöbern
SUMMARY:May the sörtienshf
DESCRIPTION:ALLES ZUM WEGTRAGEN! Irgendwas mit Bier 🍻 und Worscht 🌭 u
 nd Nicht-Sitzen-Dürfen 😎🤘\nhttps://kultberg.com/events/may-the-soert
 ienshf/
URL:https://kultberg.com/events/may-the-soertienshf/
END:VEVENT
END:VCALENDAR