BEGIN:VCALENDAR
VERSION:2.0
PRODID:-//eventon.com NONSGML v1.0//EN
CALSCALE:GREGORIAN
METHOD:PUBLISH
BEGIN:VEVENT
UID:69e5be4f66f7e
DTSTAMP:20260420T054903Z
DTSTART:20210523
DTEND:20210524
LOCATION:KULTBERG BAR/BIERGARTEN Weinbergsweg 11 / Ecke Heinrich-Heine-Str.\,  03229 Altdöbern
SUMMARY:Frohlocket - unlocked
DESCRIPTION:ZUM WEGTRAGEN und NEU! auch ZUM BIERGÄRTNERN! Wahlweise Straß
 enverkauf oder der lang ersehnte Besuch im kuscheligen Biergarten. Wir mach
 en's möglich (inkl. Spucktest vor Ort)! Reserviere dir jetzt dein Plätzch
 en in der "covid-free Zone" und genieße unseren Service sowie eine erweite
 rte Karte. Oder bummel einfach weiter mit einem frisch gezapften Bier[..]\n
 https://kultberg.com/events/frohlocket-unlocked/
URL:https://kultberg.com/events/frohlocket-unlocked/
END:VEVENT
END:VCALENDAR